BEGIN:VCALENDAR
VERSION:2.0
PRODID:-//eventon.com NONSGML v1.0//EN
CALSCALE:GREGORIAN
METHOD:PUBLISH
BEGIN:VEVENT
UID:69e8edd7e4c45
DTSTAMP:20260422T154839Z
DTSTART:20230518T011000Z
DTEND:20230518T014500Z
LOCATION:
SUMMARY:Keynote #4: An organizational perspective on the foundations of information quality for CDOs
DESCRIPTION:\nhttps://cdoiq-apac.org/events/keynote-4-an-organizational-per
 spective-on-the-foundations-of-information-quality-for-cdos/
URL:https://cdoiq-apac.org/events/keynote-4-an-organizational-perspective-on-the-foundations-of-information-quality-for-cdos/
END:VEVENT
END:VCALENDAR