BEGIN:VCALENDAR
VERSION:2.0
PRODID:-//eventon.com NONSGML v1.0//EN
CALSCALE:GREGORIAN
METHOD:PUBLISH
BEGIN:VEVENT
UID:69e8ea505c74d
DTSTAMP:20260422T153336Z
DTSTART:20250516T003000Z
DTEND:20250516T010000Z
LOCATION:
SUMMARY:Registration
DESCRIPTION:Registration\nhttps://cdoiq-apac.org/events/registration-2/
URL:https://cdoiq-apac.org/events/registration-2/
END:VEVENT
END:VCALENDAR