BEGIN:VCALENDAR
VERSION:2.0
PRODID:-//eventon.com NONSGML v1.0//EN
CALSCALE:GREGORIAN
METHOD:PUBLISH
BEGIN:VEVENT
UID:69e8ea808654e
DTSTAMP:20260422T153424Z
DTSTART:20250516T010000Z
DTEND:20250516T013000Z
LOCATION:
SUMMARY:Welcome & Opening Remarks
DESCRIPTION:[vc_row][vc_column width="1/1"][/vc_column][/vc_row]\nhttps://c
 doiq-apac.org/events/welcome-opening-remarks-2/
URL:https://cdoiq-apac.org/events/welcome-opening-remarks-2/
END:VEVENT
END:VCALENDAR