BEGIN:VCALENDAR
VERSION:2.0
PRODID:-//eventon.com NONSGML v1.0//EN
CALSCALE:GREGORIAN
METHOD:PUBLISH
BEGIN:VEVENT
UID:69e8ea361fc6c
DTSTAMP:20260422T153310Z
DTSTART:20250516T013000Z
DTEND:20250516T023000Z
LOCATION:
SUMMARY:Panel Session: Impactful Data Driven Innovations - Navigating challenges and achieving results
DESCRIPTION:&nbsp; &nbsp; &nbsp;\nhttps://cdoiq-apac.org/events/panel-sessi
 on-impactful-data-driven-innovations-navigating-challenges-and-achieving-re
 sults/
URL:https://cdoiq-apac.org/events/panel-session-impactful-data-driven-innovations-navigating-challenges-and-achieving-results/
END:VEVENT
END:VCALENDAR