BEGIN:VCALENDAR
VERSION:2.0
PRODID:-//eventon.com NONSGML v1.0//EN
CALSCALE:GREGORIAN
METHOD:PUBLISH
BEGIN:VEVENT
UID:69e8ea364cfe3
DTSTAMP:20260422T153310Z
DTSTART:20250516T023000Z
DTEND:20250516T030000Z
LOCATION:
SUMMARY:Break & Networking
DESCRIPTION:&nbsp; &nbsp;\nhttps://cdoiq-apac.org/events/break-networking-5
 /
URL:https://cdoiq-apac.org/events/break-networking-5/
END:VEVENT
END:VCALENDAR