BEGIN:VCALENDAR
VERSION:2.0
PRODID:-//eventon.com NONSGML v1.0//EN
CALSCALE:GREGORIAN
METHOD:PUBLISH
BEGIN:VEVENT
UID:69e8ea5095bcd
DTSTAMP:20260422T153336Z
DTSTART:20250516T030000Z
DTEND:20250516T033000Z
LOCATION:
SUMMARY:Session 2: Agentic AI - The Future of Business and Automation
DESCRIPTION:&nbsp; &nbsp;\nhttps://cdoiq-apac.org/events/session-2-agentic-
 ai-the-future-of-business-and-automation/
URL:https://cdoiq-apac.org/events/session-2-agentic-ai-the-future-of-business-and-automation/
END:VEVENT
END:VCALENDAR