BEGIN:VCALENDAR
VERSION:2.0
PRODID:-//eventon.com NONSGML v1.0//EN
CALSCALE:GREGORIAN
METHOD:PUBLISH
BEGIN:VEVENT
UID:69e8ea09dba33
DTSTAMP:20260422T153225Z
DTSTART:20250516T040000Z
DTEND:20250516T043000Z
LOCATION:
SUMMARY:Session 4: Digital Transformation for Sustainability: Challenges and Opportunities
DESCRIPTION:&nbsp; &nbsp; &nbsp;\nhttps://cdoiq-apac.org/events/session-3-d
 igital-transformation-for-sustainability-challenges-and-opportunities/
URL:https://cdoiq-apac.org/events/session-3-digital-transformation-for-sustainability-challenges-and-opportunities/
END:VEVENT
END:VCALENDAR