BEGIN:VCALENDAR
VERSION:2.0
PRODID:-//eventon.com NONSGML v1.0//EN
CALSCALE:GREGORIAN
METHOD:PUBLISH
BEGIN:VEVENT
UID:69e8ea80bd01b
DTSTAMP:20260422T153424Z
DTSTART:20250516T033000Z
DTEND:20250516T040000Z
LOCATION:
SUMMARY:Session 3: AI agents without coding
DESCRIPTION:&nbsp; &nbsp; &nbsp;\nhttps://cdoiq-apac.org/events/session-4-t
 bd/
URL:https://cdoiq-apac.org/events/session-4-tbd/
END:VEVENT
END:VCALENDAR