BEGIN:VCALENDAR
VERSION:2.0
PRODID:-//eventon.com NONSGML v1.0//EN
CALSCALE:GREGORIAN
METHOD:PUBLISH
BEGIN:VEVENT
UID:69e8ead31886c
DTSTAMP:20260422T153547Z
DTSTART:20250516T043000Z
DTEND:20250516T053000Z
LOCATION:
SUMMARY:LUNCH & NETWORKING
DESCRIPTION:&nbsp; &nbsp;\nhttps://cdoiq-apac.org/events/lunch-networking-4
 /
URL:https://cdoiq-apac.org/events/lunch-networking-4/
END:VEVENT
END:VCALENDAR