BEGIN:VCALENDAR
VERSION:2.0
PRODID:-//eventon.com NONSGML v1.0//EN
CALSCALE:GREGORIAN
METHOD:PUBLISH
BEGIN:VEVENT
UID:69e8ea89b878a
DTSTAMP:20260422T153433Z
DTSTART:20250516T053000Z
DTEND:20250516T060000Z
LOCATION:
SUMMARY:Session 5: Ushering in the Era of Agentic AI: Advancing Industry Workflows with Generative Intelligence
DESCRIPTION:&nbsp; &nbsp;\nhttps://cdoiq-apac.org/events/session-5-building
 -a-data-first-culture-and-data-ecosystems-that-drive-sales-customer-satisfa
 ction-and-productivity/
URL:https://cdoiq-apac.org/events/session-5-building-a-data-first-culture-and-data-ecosystems-that-drive-sales-customer-satisfaction-and-productivity/
END:VEVENT
END:VCALENDAR