BEGIN:VCALENDAR
VERSION:2.0
PRODID:-//eventon.com NONSGML v1.0//EN
CALSCALE:GREGORIAN
METHOD:PUBLISH
BEGIN:VEVENT
UID:69e8ea8a0aea1
DTSTAMP:20260422T153434Z
DTSTART:20250516T060000Z
DTEND:20250516T063000Z
LOCATION:
SUMMARY:Session 6: Agentic automation—robots\,  agents\,  and people delivering AI transformation enterprise-wide
DESCRIPTION:&nbsp; &nbsp;\nhttps://cdoiq-apac.org/events/session-6-defining
 -the-right-data-and-ai-strategy-playbook/
URL:https://cdoiq-apac.org/events/session-6-defining-the-right-data-and-ai-strategy-playbook/
END:VEVENT
END:VCALENDAR