BEGIN:VCALENDAR
VERSION:2.0
PRODID:-//eventon.com NONSGML v1.0//EN
CALSCALE:GREGORIAN
METHOD:PUBLISH
BEGIN:VEVENT
UID:69e8ead2d0e9d
DTSTAMP:20260422T153546Z
DTSTART:20250516T063000Z
DTEND:20250516T070000Z
LOCATION:
SUMMARY:Session 7: From Data to Action: Empowering Business Excellence through AI and Digital Transformation
DESCRIPTION:&nbsp; &nbsp;\nhttps://cdoiq-apac.org/events/session-7-from-dat
 a-to-action/
URL:https://cdoiq-apac.org/events/session-7-from-data-to-action/
END:VEVENT
END:VCALENDAR