BEGIN:VCALENDAR
VERSION:2.0
PRODID:-//eventon.com NONSGML v1.0//EN
CALSCALE:GREGORIAN
METHOD:PUBLISH
BEGIN:VEVENT
UID:69e8ea56c9ff6
DTSTAMP:20260422T153342Z
DTSTART:20250516T070000Z
DTEND:20250516T073000Z
LOCATION:
SUMMARY:Session 8: AI & Computer Vision for Agriculture and Farmer Upliftment
DESCRIPTION:&nbsp; &nbsp;\nhttps://cdoiq-apac.org/events/session-8-generati
 ng-substantial-return-on-investment-and-three-patents-with-data-analytics-a
 nd-ai/
URL:https://cdoiq-apac.org/events/session-8-generating-substantial-return-on-investment-and-three-patents-with-data-analytics-and-ai/
END:VEVENT
END:VCALENDAR