BEGIN:VCALENDAR
VERSION:2.0
PRODID:-//eventon.com NONSGML v1.0//EN
CALSCALE:GREGORIAN
METHOD:PUBLISH
BEGIN:VEVENT
UID:69e8ea0a1c5b3
DTSTAMP:20260422T153226Z
DTSTART:20250516T073000Z
DTEND:20250516T080000Z
LOCATION:
SUMMARY:Break & Networking
DESCRIPTION:&nbsp; &nbsp;\nhttps://cdoiq-apac.org/events/break-networking-6
 /
URL:https://cdoiq-apac.org/events/break-networking-6/
END:VEVENT
END:VCALENDAR