BEGIN:VCALENDAR
VERSION:2.0
PRODID:-//eventon.com NONSGML v1.0//EN
CALSCALE:GREGORIAN
METHOD:PUBLISH
BEGIN:VEVENT
UID:69e8ea5710b79
DTSTAMP:20260422T153343Z
DTSTART:20250516T080000Z
DTEND:20250516T083000Z
LOCATION:
SUMMARY:Session 9: Decision Science in credit underwriting: leveraging Data Infrastructure and AI-powered Digital Customer Journey to reduce Risk Cost and achieve Operational Efficiency
DESCRIPTION:&nbsp; &nbsp;\nhttps://cdoiq-apac.org/events/session-9-business
 -decisioning-rules-from-data-infrastructure-to-digital-customer-journey-to-
 reduce-risk-cost-and-achieve-operational-efficiency/
URL:https://cdoiq-apac.org/events/session-9-business-decisioning-rules-from-data-infrastructure-to-digital-customer-journey-to-reduce-risk-cost-and-achieve-operational-efficiency/
END:VEVENT
END:VCALENDAR