BEGIN:VCALENDAR
VERSION:2.0
PRODID:-//eventon.com NONSGML v1.0//EN
CALSCALE:GREGORIAN
METHOD:PUBLISH
BEGIN:VEVENT
UID:69e8eaccb50be
DTSTAMP:20260422T153540Z
DTSTART:20250516T083000Z
DTEND:20250516T090000Z
LOCATION:
SUMMARY:Session 10: Implementing Data-Driven Innovations in Emerging Markets: Challenges and Lessons from Credit and Payment Systems in Indonesia
DESCRIPTION:&nbsp; &nbsp;\nhttps://cdoiq-apac.org/events/session-10-lending
 -and-payment-analytics-in-emerging-markets/
URL:https://cdoiq-apac.org/events/session-10-lending-and-payment-analytics-in-emerging-markets/
END:VEVENT
END:VCALENDAR