BEGIN:VCALENDAR
VERSION:2.0
PRODID:-//eventon.com NONSGML v1.0//EN
CALSCALE:GREGORIAN
METHOD:PUBLISH
BEGIN:VEVENT
UID:69e8eacce6eee
DTSTAMP:20260422T153540Z
DTSTART:20250516T090000Z
DTEND:20250516T093000Z
LOCATION:
SUMMARY:Closing Remarks
DESCRIPTION:Closing Remarks\nhttps://cdoiq-apac.org/events/closing-remarks-
 4/
URL:https://cdoiq-apac.org/events/closing-remarks-4/
END:VEVENT
END:VCALENDAR