BEGIN:VCALENDAR
VERSION:2.0
PRODID:-//eventon.com NONSGML v1.0//EN
CALSCALE:GREGORIAN
METHOD:PUBLISH
BEGIN:VEVENT
UID:69e8ee2815905
DTSTAMP:20260422T155000Z
DTSTART:20230517T003000Z
DTEND:20230517T010000Z
LOCATION:
SUMMARY:Day 1 Registration
DESCRIPTION:Day 1 Registration\nhttps://cdoiq-apac.org/events/registration/
URL:https://cdoiq-apac.org/events/registration/
END:VEVENT
END:VCALENDAR