BEGIN:VCALENDAR
VERSION:2.0
PRODID:-//eventon.com NONSGML v1.0//EN
CALSCALE:GREGORIAN
METHOD:PUBLISH
BEGIN:VEVENT
UID:69e8ec1cd98af
DTSTAMP:20260422T154116Z
DTSTART:20230517T010000Z
DTEND:20230517T012000Z
LOCATION:
SUMMARY:Welcome & Opening Remarks
DESCRIPTION:[vc_row][vc_column width="1/1"][/vc_column][/vc_row]\nhttps://c
 doiq-apac.org/events/welcome-opening-remarks/
URL:https://cdoiq-apac.org/events/welcome-opening-remarks/
END:VEVENT
END:VCALENDAR