BEGIN:VCALENDAR
VERSION:2.0
PRODID:-//eventon.com NONSGML v1.0//EN
CALSCALE:GREGORIAN
METHOD:PUBLISH
BEGIN:VEVENT
UID:69e8ec1d1b4f0
DTSTAMP:20260422T154117Z
DTSTART:20230517T012000Z
DTEND:20230517T015500Z
LOCATION:
SUMMARY:Keynote #1: Keynote Address on Data-driven Intelligence and Protection from Singapore Government Perspective
DESCRIPTION:\nhttps://cdoiq-apac.org/events/keynote-address-on-data-driven-
 intelligence-and-protection-from-singapore-government-perspective/
URL:https://cdoiq-apac.org/events/keynote-address-on-data-driven-intelligence-and-protection-from-singapore-government-perspective/
END:VEVENT
END:VCALENDAR