BEGIN:VCALENDAR
VERSION:2.0
PRODID:-//eventon.com NONSGML v1.0//EN
CALSCALE:GREGORIAN
METHOD:PUBLISH
BEGIN:VEVENT
UID:69e8ec1170f77
DTSTAMP:20260422T154105Z
DTSTART:20230517T015500Z
DTEND:20230517T023000Z
LOCATION:
SUMMARY:Keynote #2: The Art of AI Maturity
DESCRIPTION:&nbsp; &nbsp;\nhttps://cdoiq-apac.org/events/keynote-2-keynote-
 address-industry-tbc/
URL:https://cdoiq-apac.org/events/keynote-2-keynote-address-industry-tbc/
END:VEVENT
END:VCALENDAR