BEGIN:VCALENDAR
VERSION:2.0
PRODID:-//eventon.com NONSGML v1.0//EN
CALSCALE:GREGORIAN
METHOD:PUBLISH
BEGIN:VEVENT
UID:69e8ec8867590
DTSTAMP:20260422T154304Z
DTSTART:20230517T023000Z
DTEND:20230517T030000Z
LOCATION:
SUMMARY:Break & Networking
DESCRIPTION:\nhttps://cdoiq-apac.org/events/break-networking/
URL:https://cdoiq-apac.org/events/break-networking/
END:VEVENT
END:VCALENDAR