BEGIN:VCALENDAR
VERSION:2.0
PRODID:-//eventon.com NONSGML v1.0//EN
CALSCALE:GREGORIAN
METHOD:PUBLISH
BEGIN:VEVENT
UID:69e8ec3bc0b5d
DTSTAMP:20260422T154147Z
DTSTART:20230517T030000Z
DTEND:20230517T033000Z
LOCATION:
SUMMARY:Track 3: Fireside Chat: Enable Your Business Users and Build a Data-Driven Culture
DESCRIPTION:&nbsp; &nbsp;\nhttps://cdoiq-apac.org/events/session-3-1-tbd/
URL:https://cdoiq-apac.org/events/session-3-1-tbd/
END:VEVENT
END:VCALENDAR