BEGIN:VCALENDAR
VERSION:2.0
PRODID:-//eventon.com NONSGML v1.0//EN
CALSCALE:GREGORIAN
METHOD:PUBLISH
BEGIN:VEVENT
UID:69e8ed07b476a
DTSTAMP:20260422T154511Z
DTSTART:20230517T030000Z
DTEND:20230517T033000Z
LOCATION:
SUMMARY:Track 2: Data-led Transformation: Connecting Everything to Create Anything
DESCRIPTION:\nhttps://cdoiq-apac.org/events/session-3-1/
URL:https://cdoiq-apac.org/events/session-3-1/
END:VEVENT
END:VCALENDAR