BEGIN:VCALENDAR
VERSION:2.0
PRODID:-//eventon.com NONSGML v1.0//EN
CALSCALE:GREGORIAN
METHOD:PUBLISH
BEGIN:VEVENT
UID:69e8edb25189a
DTSTAMP:20260422T154802Z
DTSTART:20230517T033000Z
DTEND:20230517T040000Z
LOCATION:
SUMMARY:TRACK 1: DATASPACES - OPPORTUNITIES WITH ESG
DESCRIPTION:&nbsp; &nbsp;\nhttps://cdoiq-apac.org/events/session-4-1-datasp
 aces-opportunities-with-esg/
URL:https://cdoiq-apac.org/events/session-4-1-dataspaces-opportunities-with-esg/
END:VEVENT
END:VCALENDAR