BEGIN:VCALENDAR
VERSION:2.0
PRODID:-//eventon.com NONSGML v1.0//EN
CALSCALE:GREGORIAN
METHOD:PUBLISH
BEGIN:VEVENT
UID:69e8ecaf574ec
DTSTAMP:20260422T154343Z
DTSTART:20230517T033000Z
DTEND:20230517T040000Z
LOCATION:
SUMMARY:TRACK 3: DATA LAKE\,  DATA WAREHOUSE AND DATA MESH : WHAT ARE THEY AND HOW TO BUILD RIGHT DATA STRATEGY FOR YOUR NEEDS?
DESCRIPTION:&nbsp; &nbsp;\nhttps://cdoiq-apac.org/events/session-4-2-data-d
 riven-green-ai-challenges-and-innovation/
URL:https://cdoiq-apac.org/events/session-4-2-data-driven-green-ai-challenges-and-innovation/
END:VEVENT
END:VCALENDAR