BEGIN:VCALENDAR
VERSION:2.0
PRODID:-//eventon.com NONSGML v1.0//EN
CALSCALE:GREGORIAN
METHOD:PUBLISH
BEGIN:VEVENT
UID:69e8edd2635ef
DTSTAMP:20260422T154834Z
DTSTART:20230517T033000Z
DTEND:20230517T040000Z
LOCATION:
SUMMARY:Track 2: USING AI TO POWER A DIGITAL BANK WITH HUMAN TOUCH
DESCRIPTION:\nhttps://cdoiq-apac.org/events/session-4-3-tbd/
URL:https://cdoiq-apac.org/events/session-4-3-tbd/
END:VEVENT
END:VCALENDAR