BEGIN:VCALENDAR
VERSION:2.0
PRODID:-//eventon.com NONSGML v1.0//EN
CALSCALE:GREGORIAN
METHOD:PUBLISH
BEGIN:VEVENT
UID:69e8ebba71cee
DTSTAMP:20260422T153938Z
DTSTART:20230517T040000Z
DTEND:20230517T043000Z
LOCATION:
SUMMARY:Track 1: Enabling Digital Health Through Data
DESCRIPTION:\nhttps://cdoiq-apac.org/events/session-5-1-tbd/
URL:https://cdoiq-apac.org/events/session-5-1-tbd/
END:VEVENT
END:VCALENDAR