BEGIN:VCALENDAR
VERSION:2.0
PRODID:-//eventon.com NONSGML v1.0//EN
CALSCALE:GREGORIAN
METHOD:PUBLISH
BEGIN:VEVENT
UID:69e8ec11ad958
DTSTAMP:20260422T154105Z
DTSTART:20230517T040000Z
DTEND:20230517T043000Z
LOCATION:
SUMMARY:Track 2: TIPPING THE SCALES IN AI: HARNESSING DATA AND AI TO ENHANCE BUSINESS VALUE
DESCRIPTION:\nhttps://cdoiq-apac.org/events/session-5-2-tbd/
URL:https://cdoiq-apac.org/events/session-5-2-tbd/
END:VEVENT
END:VCALENDAR