BEGIN:VCALENDAR
VERSION:2.0
PRODID:-//eventon.com NONSGML v1.0//EN
CALSCALE:GREGORIAN
METHOD:PUBLISH
BEGIN:VEVENT
UID:69e8ed69c8020
DTSTAMP:20260422T154649Z
DTSTART:20230517T040000Z
DTEND:20230517T043000Z
LOCATION:
SUMMARY:Track 3: Accelerating Automotive Innovations with Data
DESCRIPTION:\nhttps://cdoiq-apac.org/events/session-5-3-tbd/
URL:https://cdoiq-apac.org/events/session-5-3-tbd/
END:VEVENT
END:VCALENDAR