BEGIN:VCALENDAR
VERSION:2.0
PRODID:-//eventon.com NONSGML v1.0//EN
CALSCALE:GREGORIAN
METHOD:PUBLISH
BEGIN:VEVENT
UID:69e8ed55596c0
DTSTAMP:20260422T154629Z
DTSTART:20230517T043000Z
DTEND:20230517T050000Z
LOCATION:
SUMMARY:Track 1: Maximising the value of Data in a Trusted Ecosystem - A Singapore Perspective
DESCRIPTION:&nbsp; &nbsp;\nhttps://cdoiq-apac.org/events/session-6-1-tbd/
URL:https://cdoiq-apac.org/events/session-6-1-tbd/
END:VEVENT
END:VCALENDAR