BEGIN:VCALENDAR
VERSION:2.0
PRODID:-//eventon.com NONSGML v1.0//EN
CALSCALE:GREGORIAN
METHOD:PUBLISH
BEGIN:VEVENT
UID:69e8edb222479
DTSTAMP:20260422T154802Z
DTSTART:20230517T043000Z
DTEND:20230517T050000Z
LOCATION:
SUMMARY:Track 2: The Value of Data in the Consumer Health Industry
DESCRIPTION:\nhttps://cdoiq-apac.org/events/session-6-2-data-analytics-and-
 ai-in-healthcare/
URL:https://cdoiq-apac.org/events/session-6-2-data-analytics-and-ai-in-healthcare/
END:VEVENT
END:VCALENDAR