BEGIN:VCALENDAR
VERSION:2.0
PRODID:-//eventon.com NONSGML v1.0//EN
CALSCALE:GREGORIAN
METHOD:PUBLISH
BEGIN:VEVENT
UID:69e8ed699b6ce
DTSTAMP:20260422T154649Z
DTSTART:20230517T043000Z
DTEND:20230517T050000Z
LOCATION:
SUMMARY:Track 3: Privacy First Design: The Significant Role of Privacy Enhancing Technologies
DESCRIPTION:&nbsp; &nbsp;\nhttps://cdoiq-apac.org/events/session-6-3-tbd/
URL:https://cdoiq-apac.org/events/session-6-3-tbd/
END:VEVENT
END:VCALENDAR