BEGIN:VCALENDAR
VERSION:2.0
PRODID:-//eventon.com NONSGML v1.0//EN
CALSCALE:GREGORIAN
METHOD:PUBLISH
BEGIN:VEVENT
UID:69e8eca350c8c
DTSTAMP:20260422T154331Z
DTSTART:20230517T050000Z
DTEND:20230517T060000Z
LOCATION:
SUMMARY:LUNCH & NETWORKING
DESCRIPTION:\nhttps://cdoiq-apac.org/events/lunch-networking/
URL:https://cdoiq-apac.org/events/lunch-networking/
END:VEVENT
END:VCALENDAR