BEGIN:VCALENDAR
VERSION:2.0
PRODID:-//eventon.com NONSGML v1.0//EN
CALSCALE:GREGORIAN
METHOD:PUBLISH
BEGIN:VEVENT
UID:69e8ee10b1e38
DTSTAMP:20260422T154936Z
DTSTART:20230517T060000Z
DTEND:20230517T063000Z
LOCATION:
SUMMARY:Track 1: How to build a data culture to enable a global organizational strategy
DESCRIPTION:\nhttps://cdoiq-apac.org/events/session-7-1-tbd/
URL:https://cdoiq-apac.org/events/session-7-1-tbd/
END:VEVENT
END:VCALENDAR