BEGIN:VCALENDAR
VERSION:2.0
PRODID:-//eventon.com NONSGML v1.0//EN
CALSCALE:GREGORIAN
METHOD:PUBLISH
BEGIN:VEVENT
UID:69e8ecaf5f5cf
DTSTAMP:20260422T154343Z
DTSTART:20230517T060000Z
DTEND:20230517T063000Z
LOCATION:
SUMMARY:Track 2: Optimising Human Experience with Integrated Data Insights - A case study from Pfizer
DESCRIPTION:\nhttps://cdoiq-apac.org/events/session-7-2-a-behavioural-human
 -centred-approach-to-ai/
URL:https://cdoiq-apac.org/events/session-7-2-a-behavioural-human-centred-approach-to-ai/
END:VEVENT
END:VCALENDAR