BEGIN:VCALENDAR
VERSION:2.0
PRODID:-//eventon.com NONSGML v1.0//EN
CALSCALE:GREGORIAN
METHOD:PUBLISH
BEGIN:VEVENT
UID:69e8ed0ce6a7d
DTSTAMP:20260422T154516Z
DTSTART:20230517T060000Z
DTEND:20230517T063000Z
LOCATION:
SUMMARY:Track 3: CDO research and practice in China: Current status and future development
DESCRIPTION:&nbsp; &nbsp; &nbsp;\nhttps://cdoiq-apac.org/events/session-7-2
 -tbd/
URL:https://cdoiq-apac.org/events/session-7-2-tbd/
END:VEVENT
END:VCALENDAR