BEGIN:VCALENDAR
VERSION:2.0
PRODID:-//eventon.com NONSGML v1.0//EN
CALSCALE:GREGORIAN
METHOD:PUBLISH
BEGIN:VEVENT
UID:69e8ed70a93a9
DTSTAMP:20260422T154656Z
DTSTART:20230517T063000Z
DTEND:20230517T070000Z
LOCATION:
SUMMARY:Track 1: Data Strategy in Action\,  Enabled by Data and Insight
DESCRIPTION:\nhttps://cdoiq-apac.org/events/session-8-1-tbd/
URL:https://cdoiq-apac.org/events/session-8-1-tbd/
END:VEVENT
END:VCALENDAR