BEGIN:VCALENDAR
VERSION:2.0
PRODID:-//eventon.com NONSGML v1.0//EN
CALSCALE:GREGORIAN
METHOD:PUBLISH
BEGIN:VEVENT
UID:69e8ec312105c
DTSTAMP:20260422T154137Z
DTSTART:20230517T063000Z
DTEND:20230517T070000Z
LOCATION:
SUMMARY:Track 2: Insights from the Top: A CEO's Perspective on the Strategic Use of Data and Analytics in Health Services
DESCRIPTION:\nhttps://cdoiq-apac.org/events/session-8-2-tbd/
URL:https://cdoiq-apac.org/events/session-8-2-tbd/
END:VEVENT
END:VCALENDAR