BEGIN:VCALENDAR
VERSION:2.0
PRODID:-//eventon.com NONSGML v1.0//EN
CALSCALE:GREGORIAN
METHOD:PUBLISH
BEGIN:VEVENT
UID:69e8ed7070477
DTSTAMP:20260422T154656Z
DTSTART:20230517T063000Z
DTEND:20230517T070000Z
LOCATION:
SUMMARY:Track 3: Building Data Driven Products at Scale
DESCRIPTION:\nhttps://cdoiq-apac.org/events/session-8-3-tbd/
URL:https://cdoiq-apac.org/events/session-8-3-tbd/
END:VEVENT
END:VCALENDAR