BEGIN:VCALENDAR
VERSION:2.0
PRODID:-//eventon.com NONSGML v1.0//EN
CALSCALE:GREGORIAN
METHOD:PUBLISH
BEGIN:VEVENT
UID:69e8ecf14b323
DTSTAMP:20260422T154449Z
DTSTART:20230517T070000Z
DTEND:20230517T073000Z
LOCATION:
SUMMARY:Track 3: Data Driven Green AI: Challenges and Innovation
DESCRIPTION:\nhttps://cdoiq-apac.org/events/session-9-2-privacy-first-desig
 n-the-significant-role-of-privacy-enhancing-technologies/
URL:https://cdoiq-apac.org/events/session-9-2-privacy-first-design-the-significant-role-of-privacy-enhancing-technologies/
END:VEVENT
END:VCALENDAR