BEGIN:VCALENDAR
VERSION:2.0
PRODID:-//eventon.com NONSGML v1.0//EN
CALSCALE:GREGORIAN
METHOD:PUBLISH
BEGIN:VEVENT
UID:69e8ecf74087c
DTSTAMP:20260422T154455Z
DTSTART:20230518T021500Z
DTEND:20230518T024500Z
LOCATION:
SUMMARY:Track 1: FWD AI + Smart Insurance Transformation Journey
DESCRIPTION:\nhttps://cdoiq-apac.org/events/session-9-3-tbd/
URL:https://cdoiq-apac.org/events/session-9-3-tbd/
END:VEVENT
END:VCALENDAR