BEGIN:VCALENDAR
VERSION:2.0
PRODID:-//eventon.com NONSGML v1.0//EN
CALSCALE:GREGORIAN
METHOD:PUBLISH
BEGIN:VEVENT
UID:69e8ebbac3e3a
DTSTAMP:20260422T153938Z
DTSTART:20230517T073000Z
DTEND:20230517T080000Z
LOCATION:
SUMMARY:Break & Networking
DESCRIPTION:\nhttps://cdoiq-apac.org/events/break-networking-2/
URL:https://cdoiq-apac.org/events/break-networking-2/
END:VEVENT
END:VCALENDAR