BEGIN:VCALENDAR
VERSION:2.0
PRODID:-//eventon.com NONSGML v1.0//EN
CALSCALE:GREGORIAN
METHOD:PUBLISH
BEGIN:VEVENT
UID:69e8ebba3542b
DTSTAMP:20260422T153938Z
DTSTART:20230517T080000Z
DTEND:20230517T090000Z
LOCATION:
SUMMARY:Panel Session: Challenges and Best Practices Associated with Data Quality and Privacy
DESCRIPTION:&nbsp; &nbsp; &nbsp;\nhttps://cdoiq-apac.org/events/session-11-
 challenges-and-best-practices-associated-with-data-quality-and-privacy/
URL:https://cdoiq-apac.org/events/session-11-challenges-and-best-practices-associated-with-data-quality-and-privacy/
END:VEVENT
END:VCALENDAR