BEGIN:VCALENDAR
VERSION:2.0
PRODID:-//eventon.com NONSGML v1.0//EN
CALSCALE:GREGORIAN
METHOD:PUBLISH
BEGIN:VEVENT
UID:69e8ebca7fa3e
DTSTAMP:20260422T153954Z
DTSTART:20230517T093500Z
DTEND:20230517T100000Z
LOCATION:
SUMMARY:Closing Remarks
DESCRIPTION:Closing Remarks\nhttps://cdoiq-apac.org/events/closing-remarks/
URL:https://cdoiq-apac.org/events/closing-remarks/
END:VEVENT
END:VCALENDAR