BEGIN:VCALENDAR
VERSION:2.0
PRODID:-//eventon.com NONSGML v1.0//EN
CALSCALE:GREGORIAN
METHOD:PUBLISH
BEGIN:VEVENT
UID:69e8ec939d7a5
DTSTAMP:20260422T154315Z
DTSTART:20230518T003000Z
DTEND:20230518T010000Z
LOCATION:
SUMMARY:Day 2 Registration
DESCRIPTION:Day 2 Registration\nhttps://cdoiq-apac.org/events/day-2-registr
 ation/
URL:https://cdoiq-apac.org/events/day-2-registration/
END:VEVENT
END:VCALENDAR