BEGIN:VCALENDAR
VERSION:2.0
PRODID:-//eventon.com NONSGML v1.0//EN
CALSCALE:GREGORIAN
METHOD:PUBLISH
BEGIN:VEVENT
UID:69e8edd2935e2
DTSTAMP:20260422T154834Z
DTSTART:20230518T010000Z
DTEND:20230518T011000Z
LOCATION:
SUMMARY:Recap of Day 1
DESCRIPTION:Recap of Day 1\nhttps://cdoiq-apac.org/events/recap-of-day-1/
URL:https://cdoiq-apac.org/events/recap-of-day-1/
END:VEVENT
END:VCALENDAR