BEGIN:VCALENDAR
VERSION:2.0
PRODID:-//eventon.com NONSGML v1.0//EN
CALSCALE:GREGORIAN
METHOD:PUBLISH
BEGIN:VEVENT
UID:69e8ed5523841
DTSTAMP:20260422T154629Z
DTSTART:20230517T090000Z
DTEND:20230517T093500Z
LOCATION:
SUMMARY:Keynote #3: Advance Your Business with ChatGPT and Generative AI.
DESCRIPTION:\nhttps://cdoiq-apac.org/events/session-12-keynote-3-keynote-ad
 dress-academic/
URL:https://cdoiq-apac.org/events/session-12-keynote-3-keynote-address-academic/
END:VEVENT
END:VCALENDAR