BEGIN:VCALENDAR
VERSION:2.0
PRODID:-//eventon.com NONSGML v1.0//EN
CALSCALE:GREGORIAN
METHOD:PUBLISH
BEGIN:VEVENT
UID:69e8ebca51139
DTSTAMP:20260422T153954Z
DTSTART:20230518T014500Z
DTEND:20230518T021500Z
LOCATION:
SUMMARY:Track 1: UNLOCKING THE POWER OF DATA: THREE KEY STRATEGIES FOR SUCCESS
DESCRIPTION:\nhttps://cdoiq-apac.org/events/session-13-1-tbd/
URL:https://cdoiq-apac.org/events/session-13-1-tbd/
END:VEVENT
END:VCALENDAR