BEGIN:VCALENDAR
VERSION:2.0
PRODID:-//eventon.com NONSGML v1.0//EN
CALSCALE:GREGORIAN
METHOD:PUBLISH
BEGIN:VEVENT
UID:69e8ec30d9de0
DTSTAMP:20260422T154136Z
DTSTART:20230518T014500Z
DTEND:20230518T021500Z
LOCATION:
SUMMARY:Track 2: DATA TO THE PEOPLE -LEARNINGS FROM DATA DEMOCRATIZATION INITIATIVES IN BORN-DIGITAL AND INCUMBENT FIRMS
DESCRIPTION:&nbsp; &nbsp; &nbsp;\nhttps://cdoiq-apac.org/events/session-13-
 2-tbd/
URL:https://cdoiq-apac.org/events/session-13-2-tbd/
END:VEVENT
END:VCALENDAR